Package: viper Version: 1.42.0 Command: rm -rf viper.buildbin-libdir && mkdir viper.buildbin-libdir && /Users/biocbuild/BBS/utils/build-universal.sh viper_1.42.0.tar.gz /Library/Frameworks/R.framework/Resources/bin/R viper.buildbin-libdir StartedAt: 2025-10-15 21:00:06 -0400 (Wed, 15 Oct 2025) EndedAt: 2025-10-15 21:00:25 -0400 (Wed, 15 Oct 2025) EllapsedTime: 18.8 seconds RetCode: 0 Status: OK PackageFile: viper_1.42.0.tgz PackageFileSize: 762.5 KiB