Package: viper Version: 1.42.0 Maintainer: Mariano J Alvarez MaintainerEmail: reef103 at gmail.com git_url: https://git.bioconductor.org/packages/viper git_branch: RELEASE_3_21 git_last_commit: 341d731 git_last_commit_date: 2025-04-15 10:29:52 -0400 (Tue, 15 Apr 2025)