Package: vidger Version: 1.28.0 Command: /Library/Frameworks/R.framework/Resources/bin/R CMD check --install=check:vidger.install-out.txt --library=/Library/Frameworks/R.framework/Resources/library --no-vignettes --timings vidger_1.28.0.tar.gz StartedAt: 2025-10-14 12:10:17 -0400 (Tue, 14 Oct 2025) EndedAt: 2025-10-14 12:17:45 -0400 (Tue, 14 Oct 2025) EllapsedTime: 447.6 seconds RetCode: 1 Status: ERROR CheckDir: vidger.Rcheck Warnings: NA