Package: veloviz Version: 1.15.0 Command: /home/biocbuild/R/R/bin/R CMD check --install=check:veloviz.install-out.txt --library=/home/biocbuild/R/R/site-library --no-vignettes --timings veloviz_1.15.0.tar.gz StartedAt: 2025-10-17 14:51:00 -0000 (Fri, 17 Oct 2025) EndedAt: 2025-10-17 14:52:09 -0000 (Fri, 17 Oct 2025) EllapsedTime: 69.0 seconds RetCode: 0 Status: OK CheckDir: veloviz.Rcheck Warnings: 0