Package: veloviz Version: 1.16.0 Command: /Library/Frameworks/R.framework/Resources/bin/R CMD INSTALL veloviz StartedAt: 2025-11-03 15:13:18 -0500 (Mon, 03 Nov 2025) EndedAt: 2025-11-03 15:14:28 -0500 (Mon, 03 Nov 2025) EllapsedTime: 69.9 seconds RetCode: 0 Status: OK