Package: veloviz Version: 1.16.0 Command: /Library/Frameworks/R.framework/Resources/bin/R CMD build --keep-empty-dirs --no-resave-data veloviz StartedAt: 2025-11-03 19:12:40 -0500 (Mon, 03 Nov 2025) EndedAt: 2025-11-03 19:13:04 -0500 (Mon, 03 Nov 2025) EllapsedTime: 24.0 seconds RetCode: 0 Status: OK PackageFile: veloviz_1.16.0.tar.gz PackageFileSize: 3.579 MiB