Package: veloviz Version: 1.16.0 Command: /Library/Frameworks/R.framework/Resources/bin/R CMD build --keep-empty-dirs --no-resave-data veloviz StartedAt: 2025-11-06 18:06:01 -0500 (Thu, 06 Nov 2025) EndedAt: 2025-11-06 18:06:08 -0500 (Thu, 06 Nov 2025) EllapsedTime: 7.1 seconds RetCode: 0 Status: OK PackageFile: veloviz_1.16.0.tar.gz PackageFileSize: 3.579 MiB