Package: veloviz Version: 1.16.0 Maintainer: Lyla Atta MaintainerEmail: lylaatta at jhmi.edu git_url: https://git.bioconductor.org/packages/veloviz git_branch: RELEASE_3_22 git_last_commit: 97d9beb git_last_commit_date: 2025-10-29 11:11:22 -0500 (Wed, 29 Oct 2025)