Package: velociraptor Version: 1.18.0 Command: /home/biocbuild/bbs-3.21-bioc/R/bin/R CMD build --keep-empty-dirs --no-resave-data velociraptor StartedAt: 2025-10-15 20:28:27 -0400 (Wed, 15 Oct 2025) EndedAt: 2025-10-15 20:31:06 -0400 (Wed, 15 Oct 2025) EllapsedTime: 158.1 seconds RetCode: 0 Status: OK PackageFile: velociraptor_1.18.0.tar.gz PackageFileSize: 795.7 KiB