Package: velociraptor Version: 1.18.0 Command: rm -rf velociraptor.buildbin-libdir && mkdir velociraptor.buildbin-libdir && /Users/biocbuild/BBS/utils/build-universal.sh velociraptor_1.18.0.tar.gz /Library/Frameworks/R.framework/Resources/bin/R velociraptor.buildbin-libdir StartedAt: 2025-04-22 01:14:52 -0400 (Tue, 22 Apr 2025) EndedAt: 2025-04-22 01:15:27 -0400 (Tue, 22 Apr 2025) EllapsedTime: 34.5 seconds RetCode: 0 Status: OK PackageFile: velociraptor_1.18.0.tgz PackageFileSize: 917.8 KiB