Package: velociraptor Version: 1.20.0 Command: /Library/Frameworks/R.framework/Resources/bin/R CMD INSTALL velociraptor StartedAt: 2025-10-31 15:32:33 -0400 (Fri, 31 Oct 2025) EndedAt: 2025-10-31 15:32:42 -0400 (Fri, 31 Oct 2025) EllapsedTime: 8.2 seconds RetCode: 0 Status: OK