Package: velociraptor Version: 1.20.0 Command: /Library/Frameworks/R.framework/Resources/bin/R CMD check --install=check:velociraptor.install-out.txt --library=/Library/Frameworks/R.framework/Resources/library --no-vignettes --timings velociraptor_1.20.0.tar.gz StartedAt: 2025-10-31 22:45:03 -0400 (Fri, 31 Oct 2025) EndedAt: 2025-10-31 22:46:54 -0400 (Fri, 31 Oct 2025) EllapsedTime: 111.3 seconds RetCode: 0 Status: OK CheckDir: velociraptor.Rcheck Warnings: 0