Package: velociraptor Version: 1.20.0 Command: /Library/Frameworks/R.framework/Resources/bin/R CMD build --keep-empty-dirs --no-resave-data velociraptor StartedAt: 2025-11-02 18:05:46 -0500 (Sun, 02 Nov 2025) EndedAt: 2025-11-02 18:06:30 -0500 (Sun, 02 Nov 2025) EllapsedTime: 44.5 seconds RetCode: 0 Status: OK PackageFile: velociraptor_1.20.0.tar.gz PackageFileSize: 815.1 KiB