Package: vbmp Version: 1.77.0 Command: chmod a+r vbmp -R && F:\biocbuild\bbs-3.22-bioc\R\bin\R.exe CMD build --keep-empty-dirs --no-resave-data vbmp StartedAt: 2025-08-14 23:56:01 -0400 (Thu, 14 Aug 2025) EndedAt: 2025-08-14 23:56:52 -0400 (Thu, 14 Aug 2025) EllapsedTime: 51.7 seconds RetCode: 0 Status: OK PackageFile: vbmp_1.77.0.tar.gz PackageFileSize: 1.648 MiB