Package: vbmp Version: 1.77.0 Command: rm -rf vbmp.buildbin-libdir && mkdir vbmp.buildbin-libdir && F:\biocbuild\bbs-3.22-bioc\R\bin\R.exe CMD INSTALL --build --library=vbmp.buildbin-libdir vbmp_1.77.0.tar.gz StartedAt: 2025-08-15 11:34:14 -0400 (Fri, 15 Aug 2025) EndedAt: 2025-08-15 11:34:22 -0400 (Fri, 15 Aug 2025) EllapsedTime: 7.6 seconds RetCode: 0 Status: OK PackageFile: vbmp_1.77.0.zip PackageFileSize: 1.691 MiB