Package: vbmp Version: 1.76.0 Command: /home/biocbuild/bbs-3.21-bioc/R/bin/R CMD INSTALL vbmp StartedAt: 2025-10-01 15:07:07 -0400 (Wed, 01 Oct 2025) EndedAt: 2025-10-01 15:07:20 -0400 (Wed, 01 Oct 2025) EllapsedTime: 13.5 seconds RetCode: 0 Status: OK