Package: vbmp Version: 1.76.0 Command: /home/biocbuild/R/R/bin/R CMD build --keep-empty-dirs --no-resave-data vbmp StartedAt: 2025-09-30 06:11:22 -0000 (Tue, 30 Sep 2025) EndedAt: 2025-09-30 06:12:05 -0000 (Tue, 30 Sep 2025) EllapsedTime: 43.0 seconds RetCode: 0 Status: OK PackageFile: vbmp_1.76.0.tar.gz PackageFileSize: 1.753 MiB