Package: vbmp Version: 1.76.0 Command: /Library/Frameworks/R.framework/Resources/bin/R CMD build --keep-empty-dirs --no-resave-data vbmp StartedAt: 2025-04-21 17:57:22 -0400 (Mon, 21 Apr 2025) EndedAt: 2025-04-21 17:57:37 -0400 (Mon, 21 Apr 2025) EllapsedTime: 15.2 seconds RetCode: 0 Status: OK PackageFile: vbmp_1.76.0.tar.gz PackageFileSize: 1.761 MiB