Package: vbmp Version: 1.76.0 Command: rm -rf vbmp.buildbin-libdir && mkdir vbmp.buildbin-libdir && /Users/biocbuild/BBS/utils/build-universal.sh vbmp_1.76.0.tar.gz /Library/Frameworks/R.framework/Resources/bin/R vbmp.buildbin-libdir StartedAt: 2025-10-11 22:48:30 -0400 (Sat, 11 Oct 2025) EndedAt: 2025-10-11 22:48:34 -0400 (Sat, 11 Oct 2025) EllapsedTime: 4.6 seconds RetCode: 0 Status: OK PackageFile: vbmp_1.76.0.tgz PackageFileSize: 1.803 MiB