Package: vbmp Version: 1.76.0 Maintainer: Nicola Lama MaintainerEmail: nicola.lama at unina2.it git_url: https://git.bioconductor.org/packages/vbmp git_branch: RELEASE_3_21 git_last_commit: e459636 git_last_commit_date: 2025-04-15 09:40:42 -0400 (Tue, 15 Apr 2025)