Package: universalmotif Version: 1.26.2 Command: E:\biocbuild\bbs-3.21-bioc\R\bin\R.exe CMD check --no-multiarch --install=check:universalmotif.install-out.txt --library=E:\biocbuild\bbs-3.21-bioc\R\library --no-vignettes --timings universalmotif_1.26.2.tar.gz StartedAt: 2025-08-15 08:08:00 -0400 (Fri, 15 Aug 2025) EndedAt: 2025-08-15 08:11:45 -0400 (Fri, 15 Aug 2025) EllapsedTime: 225.1 seconds RetCode: 0 Status: OK CheckDir: universalmotif.Rcheck Warnings: 0