Package: universalmotif Version: 1.26.3 Command: /home/biocbuild/R/R/bin/R CMD INSTALL universalmotif StartedAt: 2025-10-06 20:28:03 -0000 (Mon, 06 Oct 2025) EndedAt: 2025-10-06 20:30:50 -0000 (Mon, 06 Oct 2025) EllapsedTime: 167.1 seconds RetCode: 0 Status: OK