Package: uncoverappLib Version: 1.18.0 Command: E:\biocbuild\bbs-3.21-bioc\R\bin\R.exe CMD INSTALL uncoverappLib StartedAt: 2025-08-14 17:05:29 -0400 (Thu, 14 Aug 2025) EndedAt: 2025-08-14 17:07:02 -0400 (Thu, 14 Aug 2025) EllapsedTime: 93.3 seconds RetCode: 0 Status: OK