Package: uSORT Version: 1.34.0 Command: E:\biocbuild\bbs-3.21-bioc\R\bin\R.exe CMD check --no-multiarch --install=check:uSORT.install-out.txt --library=E:\biocbuild\bbs-3.21-bioc\R\library --no-vignettes --timings uSORT_1.34.0.tar.gz StartedAt: 2025-08-15 08:08:07 -0400 (Fri, 15 Aug 2025) EndedAt: 2025-08-15 08:11:03 -0400 (Fri, 15 Aug 2025) EllapsedTime: 176.3 seconds RetCode: 0 Status: WARNINGS CheckDir: uSORT.Rcheck Warnings: 1