Package: uSORT Version: 1.34.0 Command: rm -rf uSORT.buildbin-libdir && mkdir uSORT.buildbin-libdir && E:\biocbuild\bbs-3.21-bioc\R\bin\R.exe CMD INSTALL --build --library=uSORT.buildbin-libdir uSORT_1.34.0.tar.gz StartedAt: 2025-08-15 10:33:01 -0400 (Fri, 15 Aug 2025) EndedAt: 2025-08-15 10:33:40 -0400 (Fri, 15 Aug 2025) EllapsedTime: 38.4 seconds RetCode: 0 Status: OK PackageFile: uSORT_1.34.0.zip PackageFileSize: 1.967 MiB