Package: uSORT Version: 1.34.0 Command: /home/biocbuild/bbs-3.21-bioc/R/bin/R CMD check --install=check:uSORT.install-out.txt --library=/home/biocbuild/bbs-3.21-bioc/R/site-library --timings uSORT_1.34.0.tar.gz StartedAt: 2025-10-16 04:41:32 -0400 (Thu, 16 Oct 2025) EndedAt: 2025-10-16 04:44:29 -0400 (Thu, 16 Oct 2025) EllapsedTime: 177.2 seconds RetCode: 0 Status: WARNINGS CheckDir: uSORT.Rcheck Warnings: 1