Package: tximeta Version: 1.28.0 Command: /Library/Frameworks/R.framework/Resources/bin/R CMD INSTALL tximeta StartedAt: 2025-11-17 18:09:06 -0500 (Mon, 17 Nov 2025) EndedAt: 2025-11-17 18:09:22 -0500 (Mon, 17 Nov 2025) EllapsedTime: 15.7 seconds RetCode: 0 Status: OK