Package: tximeta Version: 1.28.0 Command: /Library/Frameworks/R.framework/Resources/bin/R CMD check --install=check:tximeta.install-out.txt --library=/Library/Frameworks/R.framework/Resources/library --no-vignettes --timings tximeta_1.28.0.tar.gz StartedAt: 2025-11-23 05:22:41 -0500 (Sun, 23 Nov 2025) EndedAt: 2025-11-23 05:38:56 -0500 (Sun, 23 Nov 2025) EllapsedTime: 974.8 seconds RetCode: 0 Status: OK CheckDir: tximeta.Rcheck Warnings: 0