Package: tximeta Version: 1.28.0 Command: /Library/Frameworks/R.framework/Resources/bin/R CMD build --keep-empty-dirs --no-resave-data tximeta StartedAt: 2025-11-18 02:03:34 -0500 (Tue, 18 Nov 2025) EndedAt: 2025-11-18 02:05:43 -0500 (Tue, 18 Nov 2025) EllapsedTime: 129.2 seconds RetCode: 0 Status: OK PackageFile: tximeta_1.28.0.tar.gz PackageFileSize: 1.102 MiB