Package: tximeta Version: 1.28.0 Command: rm -rf tximeta.buildbin-libdir && mkdir tximeta.buildbin-libdir && /Users/biocbuild/BBS/utils/build-universal.sh tximeta_1.28.0.tar.gz /Library/Frameworks/R.framework/Resources/bin/R tximeta.buildbin-libdir StartedAt: 2025-11-18 16:35:29 -0500 (Tue, 18 Nov 2025) EndedAt: 2025-11-18 16:35:50 -0500 (Tue, 18 Nov 2025) EllapsedTime: 21.2 seconds RetCode: 0 Status: OK PackageFile: tximeta_1.28.0.tgz PackageFileSize: 931.7 KiB