Package: txdbmaker Version: 1.6.0 Command: /home/biocbuild/R/R/bin/R CMD check --install=check:txdbmaker.install-out.txt --library=/home/biocbuild/R/R/site-library --no-vignettes --timings txdbmaker_1.6.0.tar.gz StartedAt: 2025-11-14 16:08:44 -0000 (Fri, 14 Nov 2025) EndedAt: 2025-11-14 16:16:27 -0000 (Fri, 14 Nov 2025) EllapsedTime: 462.6 seconds RetCode: 1 Status: ERROR CheckDir: txdbmaker.Rcheck Warnings: NA