Package: txdbmaker Version: 1.5.6 Command: /home/biocbuild/R/R/bin/R CMD build --keep-empty-dirs --no-resave-data txdbmaker StartedAt: 2025-10-21 03:54:48 -0000 (Tue, 21 Oct 2025) EndedAt: 2025-10-21 03:56:57 -0000 (Tue, 21 Oct 2025) EllapsedTime: 129.0 seconds RetCode: 0 Status: OK PackageFile: txdbmaker_1.5.6.tar.gz PackageFileSize: 1.008 MiB