Package: txdbmaker Version: 1.5.6 Command: chmod a+r txdbmaker -R && F:\biocbuild\bbs-3.22-bioc\R\bin\R.exe CMD build --keep-empty-dirs --no-resave-data txdbmaker StartedAt: 2025-08-14 23:53:35 -0400 (Thu, 14 Aug 2025) EndedAt: 2025-08-14 23:55:42 -0400 (Thu, 14 Aug 2025) EllapsedTime: 127.0 seconds RetCode: 0 Status: OK PackageFile: txdbmaker_1.5.6.tar.gz PackageFileSize: 14.53 MiB