Package: txdbmaker Version: 1.4.2 Command: E:\biocbuild\bbs-3.21-bioc\R\bin\R.exe CMD check --no-multiarch --install=check:txdbmaker.install-out.txt --library=E:\biocbuild\bbs-3.21-bioc\R\library --no-vignettes --timings txdbmaker_1.4.2.tar.gz StartedAt: 2025-08-15 08:06:35 -0400 (Fri, 15 Aug 2025) EndedAt: 2025-08-15 08:19:27 -0400 (Fri, 15 Aug 2025) EllapsedTime: 771.7 seconds RetCode: 0 Status: OK CheckDir: txdbmaker.Rcheck Warnings: 0