Package: txcutr Version: 1.14.0 Command: rm -rf txcutr.buildbin-libdir && mkdir txcutr.buildbin-libdir && /Users/biocbuild/BBS/utils/build-universal.sh txcutr_1.14.0.tar.gz /Library/Frameworks/R.framework/Resources/bin/R txcutr.buildbin-libdir StartedAt: 2025-04-22 01:14:30 -0400 (Tue, 22 Apr 2025) EndedAt: 2025-04-22 01:15:22 -0400 (Tue, 22 Apr 2025) EllapsedTime: 52.1 seconds RetCode: 0 Status: OK PackageFile: txcutr_1.14.0.tgz PackageFileSize: 346.2 KiB