Package: twoddpcr Version: 1.33.0 Command: /home/biocbuild/R/R/bin/R CMD check --install=check:twoddpcr.install-out.txt --library=/home/biocbuild/R/R/site-library --no-vignettes --timings twoddpcr_1.33.0.tar.gz StartedAt: 2025-10-17 14:46:47 -0000 (Fri, 17 Oct 2025) EndedAt: 2025-10-17 14:49:28 -0000 (Fri, 17 Oct 2025) EllapsedTime: 160.3 seconds RetCode: 0 Status: OK CheckDir: twoddpcr.Rcheck Warnings: 0