Package: twoddpcr Version: 1.34.0 Command: /Library/Frameworks/R.framework/Resources/bin/R CMD INSTALL twoddpcr StartedAt: 2025-11-06 15:06:53 -0500 (Thu, 06 Nov 2025) EndedAt: 2025-11-06 15:06:59 -0500 (Thu, 06 Nov 2025) EllapsedTime: 5.4 seconds RetCode: 0 Status: OK