Package: twilight Version: 1.84.0 Command: chmod a+r twilight -R && E:\biocbuild\bbs-3.21-bioc\R\bin\R.exe CMD build --keep-empty-dirs --no-resave-data twilight StartedAt: 2025-08-14 22:50:44 -0400 (Thu, 14 Aug 2025) EndedAt: 2025-08-14 22:52:21 -0400 (Thu, 14 Aug 2025) EllapsedTime: 96.9 seconds RetCode: 0 Status: OK PackageFile: twilight_1.84.0.tar.gz PackageFileSize: 946.2 KiB