Package: twilight Version: 1.84.0 Command: rm -rf twilight.buildbin-libdir && mkdir twilight.buildbin-libdir && E:\biocbuild\bbs-3.21-bioc\R\bin\R.exe CMD INSTALL --build --library=twilight.buildbin-libdir twilight_1.84.0.tar.gz StartedAt: 2025-08-15 10:32:12 -0400 (Fri, 15 Aug 2025) EndedAt: 2025-08-15 10:32:35 -0400 (Fri, 15 Aug 2025) EllapsedTime: 23.1 seconds RetCode: 0 Status: OK PackageFile: twilight_1.84.0.zip PackageFileSize: 978.1 KiB