Package: twilight Version: 1.84.0 Command: /home/biocbuild/bbs-3.21-bioc/R/bin/R CMD INSTALL twilight StartedAt: 2025-10-15 15:12:01 -0400 (Wed, 15 Oct 2025) EndedAt: 2025-10-15 15:12:06 -0400 (Wed, 15 Oct 2025) EllapsedTime: 5.1 seconds RetCode: 0 Status: OK