Package: ttgsea Version: 1.16.0 Command: /home/biocbuild/R/R/bin/R CMD INSTALL ttgsea StartedAt: 2025-10-13 20:22:39 -0000 (Mon, 13 Oct 2025) EndedAt: 2025-10-13 20:22:51 -0000 (Mon, 13 Oct 2025) EllapsedTime: 12.7 seconds RetCode: 0 Status: OK