Package: tripr Version: 1.15.0 Command: chmod a+r tripr -R && F:\biocbuild\bbs-3.22-bioc\R\bin\R.exe CMD build --keep-empty-dirs --no-resave-data tripr StartedAt: 2025-08-14 23:51:57 -0400 (Thu, 14 Aug 2025) EndedAt: 2025-08-14 23:52:59 -0400 (Thu, 14 Aug 2025) EllapsedTime: 62.3 seconds RetCode: 0 Status: OK PackageFile: tripr_1.15.0.tar.gz PackageFileSize: 2.939 MiB