Package: tripr Version: 1.15.0 Command: rm -rf tripr.buildbin-libdir && mkdir tripr.buildbin-libdir && F:\biocbuild\bbs-3.22-bioc\R\bin\R.exe CMD INSTALL --build --library=tripr.buildbin-libdir tripr_1.15.0.tar.gz StartedAt: 2025-08-15 11:32:28 -0400 (Fri, 15 Aug 2025) EndedAt: 2025-08-15 11:33:53 -0400 (Fri, 15 Aug 2025) EllapsedTime: 84.6 seconds RetCode: 0 Status: OK PackageFile: tripr_1.15.0.zip PackageFileSize: 4.076 MiB