Package: tripr Version: 1.16.0 Command: /Library/Frameworks/R.framework/Resources/bin/R CMD build --keep-empty-dirs --no-resave-data tripr StartedAt: 2025-11-06 18:02:50 -0500 (Thu, 06 Nov 2025) EndedAt: 2025-11-06 18:03:13 -0500 (Thu, 06 Nov 2025) EllapsedTime: 23.3 seconds RetCode: 0 Status: OK PackageFile: tripr_1.16.0.tar.gz PackageFileSize: 2.939 MiB