Package: tripr Version: 1.16.0 Maintainer: Nikolaos Pechlivanis MaintainerEmail: inab.bioinformatics at lists.certh.gr git_url: https://git.bioconductor.org/packages/tripr git_branch: RELEASE_3_22 git_last_commit: 1de3618 git_last_commit_date: 2025-10-29 11:12:01 -0500 (Wed, 29 Oct 2025)