Package: triplex Version: 1.48.0 Command: /Library/Frameworks/R.framework/Resources/bin/R CMD INSTALL triplex StartedAt: 2025-04-21 15:29:51 -0400 (Mon, 21 Apr 2025) EndedAt: 2025-04-21 15:30:14 -0400 (Mon, 21 Apr 2025) EllapsedTime: 23.2 seconds RetCode: 0 Status: OK