Package: trio Version: 3.48.0 Command: /Library/Frameworks/R.framework/Resources/bin/R CMD check --install=check:trio.install-out.txt --library=/Library/Frameworks/R.framework/Resources/library --no-vignettes --timings trio_3.48.0.tar.gz StartedAt: 2025-10-31 22:40:33 -0400 (Fri, 31 Oct 2025) EndedAt: 2025-10-31 22:41:26 -0400 (Fri, 31 Oct 2025) EllapsedTime: 53.6 seconds RetCode: 0 Status: OK CheckDir: trio.Rcheck Warnings: 0