Package: tricycle Version: 1.18.0 Command: /Library/Frameworks/R.framework/Resources/bin/R CMD check --install=check:tricycle.install-out.txt --library=/Library/Frameworks/R.framework/Resources/library --no-vignettes --timings tricycle_1.18.0.tar.gz StartedAt: 2025-11-10 22:53:46 -0500 (Mon, 10 Nov 2025) EndedAt: 2025-11-10 22:55:29 -0500 (Mon, 10 Nov 2025) EllapsedTime: 102.3 seconds RetCode: 0 Status: WARNINGS CheckDir: tricycle.Rcheck Warnings: 1