Package: tricycle Version: 1.18.0 Command: /Library/Frameworks/R.framework/Resources/bin/R CMD build --keep-empty-dirs --no-resave-data tricycle StartedAt: 2025-11-10 18:03:46 -0500 (Mon, 10 Nov 2025) EndedAt: 2025-11-10 18:04:14 -0500 (Mon, 10 Nov 2025) EllapsedTime: 28.3 seconds RetCode: 0 Status: OK PackageFile: tricycle_1.18.0.tar.gz PackageFileSize: 4.21 MiB