Package: treekoR Version: 1.18.0 Command: /home/biocbuild/bbs-3.22-bioc/R/bin/R CMD check --install=check:treekoR.install-out.txt --library=/home/biocbuild/bbs-3.22-bioc/R/site-library --timings treekoR_1.18.0.tar.gz StartedAt: 2025-11-10 05:18:22 -0500 (Mon, 10 Nov 2025) EndedAt: 2025-11-10 05:23:44 -0500 (Mon, 10 Nov 2025) EllapsedTime: 322.4 seconds RetCode: 0 Status: OK CheckDir: treekoR.Rcheck Warnings: 0